BEGIN:VCALENDAR
VERSION:2.0
PRODID:-//eventon.com NONSGML v1.0//EN
BEGIN:VEVENT
UID:69eb4b64289f4
DTSTAMP:20260424T125220
DTSTART:20160224T183000Z
DTEND:20160224T220000Z
TZID:Europe/Berlin
LOCATION:
SUMMARY:La Cage aux Folles | Jaqueline
DESCRIPTION: La Cage aux Folles | Jaqueline\nhttps://www.elke-kottmair.com/events/la-cage-aux-folles-jaqueline-5/
URL:https://www.elke-kottmair.com/events/la-cage-aux-folles-jaqueline-5/
END:VEVENT
END:VCALENDAR