BEGIN:VCALENDAR
VERSION:2.0
PRODID:-//eventon.com NONSGML v1.0//EN
BEGIN:VEVENT
UID:69eb4d5b88164
DTSTAMP:20260424T130043
DTSTART:20160614T173000Z
DTEND:20160614T210000Z
TZID:Europe/Berlin
LOCATION:
SUMMARY:Das Märchen vom Zaren Saltan | Bäckerin\,  ältere Schwester
DESCRIPTION: Das Märchen vom Zaren Saltan | Bäckerin\,  ältere Schwester\nhttps://www.elke-kottmair.com/events/das-maerchen-vom-zaren-saltan-baeckerin-aeltere-schwester-3/
URL:https://www.elke-kottmair.com/events/das-maerchen-vom-zaren-saltan-baeckerin-aeltere-schwester-3/
END:VEVENT
END:VCALENDAR