BEGIN:VCALENDAR
VERSION:2.0
PRODID:-//eventon.com NONSGML v1.0//EN
BEGIN:VEVENT
UID:69eb4d3cbaf8f
DTSTAMP:20260424T130012
DTSTART:20160324T183000Z
DTEND:20160324T220000Z
TZID:Europe/Berlin
LOCATION:
SUMMARY:Anatevka | Jente
DESCRIPTION: Anatevka | Jente\nhttps://www.elke-kottmair.com/events/anatevka-jente-2/
URL:https://www.elke-kottmair.com/events/anatevka-jente-2/
END:VEVENT
END:VCALENDAR