BEGIN:VCALENDAR
VERSION:2.0
PRODID:-//eventon.com NONSGML v1.0//EN
BEGIN:VEVENT
UID:69e4ca76b55cb
DTSTAMP:20260419T142838
DTSTART:20180810T180000Z
DTEND:20180810T210000Z
TZID:Europe/Berlin
LOCATION:Waldbühne Heldritt 
SUMMARY:Operettengala
DESCRIPTION: Operettengala\nhttps://www.elke-kottmair.com/events/operettengala-5/
URL:https://www.elke-kottmair.com/events/operettengala-5/
END:VEVENT
END:VCALENDAR