BEGIN:VCALENDAR
VERSION:2.0
PRODID:-//eventon.com NONSGML v1.0//EN
BEGIN:VEVENT
UID:69e5f77a0ac65
DTSTAMP:20260420T115258
DTSTART:20200405T160000Z
DTEND:20200405T210000Z
TZID:Europe/Berlin
LOCATION:Semperoper Dresden Theaterplatz 2\,  01067 Dresden
SUMMARY:WIE WERDE ICH REICH UND GLÜCKLICH? | LIS
DESCRIPTION: WIE WERDE ICH REICH UND GLÜCKLICH? | LIS\nhttps://www.elke-kottmair.com/events/wie-werde-ich-reich-und-gluecklich-lis/
URL:https://www.elke-kottmair.com/events/wie-werde-ich-reich-und-gluecklich-lis/
END:VEVENT
END:VCALENDAR