BEGIN:VCALENDAR
VERSION:2.0
PRODID:-//eventon.com NONSGML v1.0//EN
BEGIN:VEVENT
UID:69ecb331dd679
DTSTAMP:20260425T142729
DTSTART:20200208T180000Z
DTEND:20200208T220000Z
TZID:Europe/Berlin
LOCATION:Theater Ulm Herbert-von-Karajan-Platz 1\,  89073 Ulm
SUMMARY:DIE CSÁRDÁSFÜRSTIN | ANASTASIA
DESCRIPTION: DIE CSÁRDÁSFÜRSTIN | ANASTASIA\nhttps://www.elke-kottmair.com/events/die-csardasfuerstin-anastasia-2/
URL:https://www.elke-kottmair.com/events/die-csardasfuerstin-anastasia-2/
END:VEVENT
END:VCALENDAR