BEGIN:VCALENDAR
VERSION:2.0
PRODID:-//eventon.com NONSGML v1.0//EN
BEGIN:VEVENT
UID:69ec95b4c2b98
DTSTAMP:20260425T122140
DTSTART:20220513T170000Z
DTEND:20220513T160000Z
TZID:Europe/Berlin
LOCATION:Pfarrkirche Hl. Kreuz Friedrichstraße 26\,  97082 Würzburg
SUMMARY:Nabucco I Anna (entfällt)
DESCRIPTION: Nabucco I Anna (entfällt)\nhttps://www.elke-kottmair.com/events/nabucco-i-anna-2/
URL:https://www.elke-kottmair.com/events/nabucco-i-anna-2/
END:VEVENT
END:VCALENDAR