BEGIN:VCALENDAR
VERSION:2.0
PRODID:-//eventon.com NONSGML v1.0//EN
BEGIN:VEVENT
UID:69e5e43eed5e3
DTSTAMP:20260420T103054
DTSTART:20210904T173000Z
DTEND:20210904T210000Z
TZID:Europe/Berlin
LOCATION:Parktheater im Kurhaus Klausenberg 6\,   86199 Augsburg
SUMMARY:Operettengala I Hörmann Classic - verschoben auf 2022!
DESCRIPTION: Operettengala I Hörmann Classic - verschoben auf 2022!\nhttps://www.elke-kottmair.com/events/operettengala-i-hoermann-classic-verschoben-auf-2022-2/
URL:https://www.elke-kottmair.com/events/operettengala-i-hoermann-classic-verschoben-auf-2022-2/
END:VEVENT
END:VCALENDAR