BEGIN:VCALENDAR
VERSION:2.0
PRODID:-//eventon.com NONSGML v1.0//EN
BEGIN:VEVENT
UID:69e5e43ee6528
DTSTAMP:20260420T103054
DTSTART:20220607T170000Z
DTEND:20220607T215000Z
TZID:Europe/Berlin
LOCATION:Semperoper Dresden Theaterplatz 2\,  01067 Dresden
SUMMARY:INTO THE WOODS / Ab in den Wald
DESCRIPTION: INTO THE WOODS / Ab in den Wald\nhttps://www.elke-kottmair.com/events/into-the-woods-premiere-i-cinderellas-stiefmutter-hansmutter-cinderellas-mutter-9/
URL:https://www.elke-kottmair.com/events/into-the-woods-premiere-i-cinderellas-stiefmutter-hansmutter-cinderellas-mutter-9/
END:VEVENT
END:VCALENDAR