BEGIN:VCALENDAR
VERSION:2.0
PRODID:-//eventon.com NONSGML v1.0//EN
BEGIN:VEVENT
UID:69e532b464be4
DTSTAMP:20260419T215324
DTSTART:20221110T183000Z
DTEND:20221110T220000Z
TZID:Europe/Berlin
LOCATION:Theater Ulm Herbert-von-Karajan-Platz 1\,  89073 Ulm
SUMMARY:OPERETTE EXTREM I Eine Sängerin
DESCRIPTION: OPERETTE EXTREM I Eine Sängerin\nhttps://www.elke-kottmair.com/events/operette-extrem-i-eine-saengerin-3/
URL:https://www.elke-kottmair.com/events/operette-extrem-i-eine-saengerin-3/
END:VEVENT
END:VCALENDAR