BEGIN:VCALENDAR
VERSION:2.0
PRODID:-//eventon.com NONSGML v1.0//EN
BEGIN:VEVENT
UID:69eb6467c04ef
DTSTAMP:20260424T143903
DTSTART:20240315T180000Z
DTEND:20240315T225000Z
TZID:Europe/Berlin
LOCATION:Semperoper Dresden Theaterplatz 2\,  01067 Dresden
SUMMARY:INTO THE WOODS / Ab in den Wald
DESCRIPTION: INTO THE WOODS / Ab in den Wald\nhttps://www.elke-kottmair.com/events/into-the-woods-ab-in-den-wald/
URL:https://www.elke-kottmair.com/events/into-the-woods-ab-in-den-wald/
END:VEVENT
END:VCALENDAR