BEGIN:VCALENDAR
VERSION:2.0
PRODID:-//eventon.com NONSGML v1.0//EN
BEGIN:VEVENT
UID:69eb7ff674ea3
DTSTAMP:20260424T163638
DTSTART:20240317T180000Z
DTEND:20240317T225000Z
TZID:Europe/Berlin
LOCATION:Semperoper Dresden Theaterplatz 2\,  01067 Dresden
SUMMARY:INTO THE WOODS / Ab in den Wald
DESCRIPTION: INTO THE WOODS / Ab in den Wald\nhttps://www.elke-kottmair.com/events/into-the-woods-ab-in-den-wald-2/
URL:https://www.elke-kottmair.com/events/into-the-woods-ab-in-den-wald-2/
END:VEVENT
END:VCALENDAR