BEGIN:VCALENDAR
VERSION:2.0
PRODID:-//eventon.com NONSGML v1.0//EN
BEGIN:VEVENT
UID:69eb63a09da75
DTSTAMP:20260424T143544
DTSTART:20240331T170000Z
DTEND:20240331T215000Z
TZID:Europe/Berlin
LOCATION:Semperoper Dresden Theaterplatz 2\,  01067 Dresden
SUMMARY:INTO THE WOODS / Ab in den Wald
DESCRIPTION: INTO THE WOODS / Ab in den Wald\nhttps://www.elke-kottmair.com/events/into-the-woods-ab-in-den-wald-6/
URL:https://www.elke-kottmair.com/events/into-the-woods-ab-in-den-wald-6/
END:VEVENT
END:VCALENDAR