BEGIN:VCALENDAR
VERSION:2.0
PRODID:-//eventon.com NONSGML v1.0//EN
BEGIN:VEVENT
UID:69eb7d4f33312
DTSTAMP:20260424T162519
DTSTART:20240323T183000Z
DTEND:20240323T225000Z
TZID:Europe/Berlin
LOCATION:Kitzingen Alte Synagoge
SUMMARY:ALLE (S) AUS BAYERN!
DESCRIPTION: Hätten Sie&#8217;s gewusst? Der berühmte Kanon in D-Dur von Johann Pachelbel zählt zu den bekanntesten und meistgehörten Ohrwürmern der klassischen Musik. Und stammt aus Nürnberg. Leopold Mozart aus Augsburg war nicht nur Musiker\,  sondern auch Manager. Sein Sohn\,   W.A. Mozart wurde einer der berühmtesten Komponisten der Musikgeschichte. Norbert Glanzberg\,  Komponist[..]\nhttps://www.elke-kottmair.com/events/alles-s-aus-bayern-6/
URL:https://www.elke-kottmair.com/events/alles-s-aus-bayern-6/
END:VEVENT
END:VCALENDAR