BEGIN:VCALENDAR
VERSION:2.0
PRODID:-//eventon.com NONSGML v1.0//EN
BEGIN:VEVENT
UID:69eb64052d3bc
DTSTAMP:20260424T143725
DTSTART:20240224T100000Z
DTEND:20240224T225000Z
TZID:Europe/Vienna
LOCATION:Friedrichshafen\,  Graf-Zeppelin-Haus Olgastrasse 20\,  88045 Friedrichshafen
SUMMARY:Kinderkonzert I Moderation
DESCRIPTION: Der Elefantenpups mit dem Zoo-Orchester um die Welt Für Erzählerin und kleines Orchester Stefan Malzew/Arr. Manuel Grunden Musik Heidi Leenen Text Elke Kottmair Erzählerin ensemble minifaktur Pietro Sarno Leitung Eins ist klar: Musik und Freundschaft machen stark! Das ensemble minifaktur führt seine Geschichte rund um den Elefantenpups in die dritte[..]\nhttps://www.elke-kottmair.com/events/kinderkonzert-i-moderation/
URL:https://www.elke-kottmair.com/events/kinderkonzert-i-moderation/
END:VEVENT
END:VCALENDAR