BEGIN:VCALENDAR
VERSION:2.0
PRODID:-//eventon.com NONSGML v1.0//EN
BEGIN:VEVENT
UID:69eb63bfd8179
DTSTAMP:20260424T143615
DTSTART:20240428T090000Z
DTEND:20240428T215000Z
TZID:Europe/Vienna
LOCATION:Ehingen 
SUMMARY:Kinderkonzert I Moderation
DESCRIPTION: Der Elefantenpups mit dem Zoo-Orchester um die Welt Für Erzählerin und kleines Orchester Stefan Malzew/Arr. Manuel Grunden Musik Heidi Leenen Text Elke Kottmair Erzählerin ensemble minifaktur Pietro Sarno Leitung Eins ist klar: Musik und Freundschaft machen stark! Das ensemble minifaktur führt seine Geschichte rund um den Elefantenpups in die dritte[..]\nhttps://www.elke-kottmair.com/events/kinderkonzert-i-moderation-2/
URL:https://www.elke-kottmair.com/events/kinderkonzert-i-moderation-2/
END:VEVENT
END:VCALENDAR