BEGIN:VCALENDAR
VERSION:2.0
PRODID:-//eventon.com NONSGML v1.0//EN
BEGIN:VEVENT
UID:69eb63bfd21c7
DTSTAMP:20260424T143615
DTSTART:20240504T180000Z
DTEND:20240504T215000Z
TZID:Europe/Berlin
LOCATION:Ev. Stadtkirche Unna 
SUMMARY:Meisterwerke von Bach und Mozart
DESCRIPTION: J.S.Bach &#8211; Osteroratorium BWV 249\,  W.A.Mozart &#8211; Motette &#8222;Exsultate\,  jubilate&#8220;\,  KV 165 J.S. Bach &#8211; Kantate &#8222;O ewiges Feuer\,  Ursprung der Liebe&#8220; BWV 34 Elke Kottmair | Sopran Dorothée Rabsch | Alt Stefan Sbonnik | Tenor Gerrit Miehlke | Bass\nhttps://www.elke-kottmair.com/events/meisterwerke-von-bach-und-mozart/
URL:https://www.elke-kottmair.com/events/meisterwerke-von-bach-und-mozart/
END:VEVENT
END:VCALENDAR