BEGIN:VCALENDAR
VERSION:2.0
PRODID:-//eventon.com NONSGML v1.0//EN
BEGIN:VEVENT
UID:69eb7cd35f41d
DTSTAMP:20260424T162315
DTSTART:20240809T173000Z
DTEND:20240809T215000Z
TZID:Europe/Berlin
LOCATION:Sommeroperette Heldritt Herbert-von-Karajan-Platz 1\,  89073 Ulm
SUMMARY:High Society | Margaret Lord
DESCRIPTION: High Society | Margaret Lord\nhttps://www.elke-kottmair.com/events/high-society-margaret-lord/
URL:https://www.elke-kottmair.com/events/high-society-margaret-lord/
END:VEVENT
END:VCALENDAR