BEGIN:VCALENDAR
VERSION:2.0
PRODID:-//eventon.com NONSGML v1.0//EN
BEGIN:VEVENT
UID:69eb645c08fc2
DTSTAMP:20260424T143852
DTSTART:20240810T173000Z
DTEND:20240810T215000Z
TZID:Europe/Berlin
LOCATION:Sommeroperette Heldritt Herbert-von-Karajan-Platz 1\,  89073 Ulm
SUMMARY:High Society | Margaret Lord
DESCRIPTION: High Society | Margaret Lord\nhttps://www.elke-kottmair.com/events/high-society-margaret-lord-2/
URL:https://www.elke-kottmair.com/events/high-society-margaret-lord-2/
END:VEVENT
END:VCALENDAR