BEGIN:VCALENDAR
VERSION:2.0
PRODID:-//eventon.com NONSGML v1.0//EN
BEGIN:VEVENT
UID:69eb641e3443c
DTSTAMP:20260424T143750
DTSTART:20240706T170000Z
DTEND:20240706T215000Z
TZID:Europe/Berlin
LOCATION:Gmund am Tegernsee | Tenne Gut Kaltenbrunn 
SUMMARY:Akademie für alte Musik - Europa tanzt
DESCRIPTION: Mitwirkende Elke Kottmair Sprecherin Georg Kallweit Konzertmeister Yves Ytier Konzertmeister https://akamus.de/de/konzerte/tag/2024-07-06\nhttps://www.elke-kottmair.com/events/akademie-fuer-alte-musik-europa-tanzt/
URL:https://www.elke-kottmair.com/events/akademie-fuer-alte-musik-europa-tanzt/
END:VEVENT
END:VCALENDAR