BEGIN:VCALENDAR
VERSION:2.0
PRODID:-//eventon.com NONSGML v1.0//EN
BEGIN:VEVENT
UID:69eb634d6f183
DTSTAMP:20260424T143421
DTSTART:20240705T173000Z
DTEND:20240705T215000Z
TZID:Europe/Berlin
LOCATION:Villa Elisabeth\,  Berlin 
SUMMARY:Akademie für alte Musik - Europa tanzt
DESCRIPTION: Mitwirkende Elke Kottmair Sprecherin Georg Kallweit Konzertmeister Yves Ytier Konzertmeister https://akamus.de/de/konzert/europa-tanzt-1\nhttps://www.elke-kottmair.com/events/akademie-fuer-alte-musik-europa-tanzt-2/
URL:https://www.elke-kottmair.com/events/akademie-fuer-alte-musik-europa-tanzt-2/
END:VEVENT
END:VCALENDAR