BEGIN:VCALENDAR
VERSION:2.0
PRODID:-//eventon.com NONSGML v1.0//EN
BEGIN:VEVENT
UID:69eb637ab16de
DTSTAMP:20260424T143506
DTSTART:20241221T183000Z
DTEND:20241221T225000Z
TZID:Europe/Vienna
LOCATION:Stadttheater Klagenfurt Theaterplatz 4\,  9020 Klagenfurt
SUMMARY:SISTER ACT I Schwester Mary Patrick
DESCRIPTION: Die Musical Version mit großer Orchesterfassung!\nhttps://www.elke-kottmair.com/events/sister-act-i-schwester-mary-patrick-23/
URL:https://www.elke-kottmair.com/events/sister-act-i-schwester-mary-patrick-23/
END:VEVENT
END:VCALENDAR