BEGIN:VCALENDAR
VERSION:2.0
PRODID:-//eventon.com NONSGML v1.0//EN
BEGIN:VEVENT
UID:69eb640461ebb
DTSTAMP:20260424T143724
DTSTART:20241228T183000Z
DTEND:20241228T225000Z
TZID:Europe/Vienna
LOCATION:Stadttheater Klagenfurt Theaterplatz 4\,  9020 Klagenfurt
SUMMARY:SISTER ACT I Schwester Mary Patrick
DESCRIPTION: Die Musical Version mit großer Orchesterfassung!\nhttps://www.elke-kottmair.com/events/sister-act-i-schwester-mary-patrick-24/
URL:https://www.elke-kottmair.com/events/sister-act-i-schwester-mary-patrick-24/
END:VEVENT
END:VCALENDAR