BEGIN:VCALENDAR
VERSION:2.0
PRODID:-//eventon.com NONSGML v1.0//EN
BEGIN:VEVENT
UID:69eb8046ccb80
DTSTAMP:20260424T163758
DTSTART:20241229T140000Z
DTEND:20241229T225000Z
TZID:Europe/Vienna
LOCATION:Stadttheater Klagenfurt Theaterplatz 4\,  9020 Klagenfurt
SUMMARY:SISTER ACT I Schwester Mary Patrick
DESCRIPTION: Die Musical Version mit großer Orchesterfassung!\nhttps://www.elke-kottmair.com/events/sister-act-i-schwester-mary-patrick-25/
URL:https://www.elke-kottmair.com/events/sister-act-i-schwester-mary-patrick-25/
END:VEVENT
END:VCALENDAR