BEGIN:VCALENDAR
VERSION:2.0
PRODID:-//eventon.com NONSGML v1.0//EN
BEGIN:VEVENT
UID:69eb6379ae0b7
DTSTAMP:20260424T143505
DTSTART:20241023T163000Z
DTEND:20241023T215000Z
TZID:Europe/Berlin
LOCATION:Stadtmuseum Kaufbeuren 
SUMMARY:Rendezvous der Künste
DESCRIPTION: Das erfolgreiche musikalische Wanderkonzert durch das Stadtmuseum Kaufbeuren. Themen einzelner Räume werden durch ausgewählte musikalische und literarische Interpretationen neu beleuchtet. Idee\,  Konzept\,  Moderation\,  Rezitation und Gesang: Elke Kottmair Mit: Frank Strodel\,  Klarinette und Vladislav Cojocaru\,  Akkordeon\nhttps://www.elke-kottmair.com/events/rendezvous-der-kuenste/
URL:https://www.elke-kottmair.com/events/rendezvous-der-kuenste/
END:VEVENT
END:VCALENDAR