BEGIN:VCALENDAR
VERSION:2.0
PRODID:-//eventon.com NONSGML v1.0//EN
BEGIN:VEVENT
UID:69eb639fc7694
DTSTAMP:20260424T143543
DTSTART:20240901T160000Z
DTEND:20240901T215000Z
TZID:Europe/Berlin
LOCATION:Capitol Mannheim 
SUMMARY:Breslau Modern Times 1 I Konzert mit der Staatsphilharmonie Rheinland-Pfalz
DESCRIPTION: Zum Jubiläum „100 Jahre Neue Sachlichkeit“ haben sich die Staatsphilharmonie und das Capitol Mannheim zusammengetan\,  um ein Konzert zu gestalten\,  das die musikalischen Aufbrüche der 20er Jahren beleuchtet. „Leben in dieser Zeit“ ist ein Teil der „Modern Times“ Reihe und bringt das vieltönende Nebeneinander von modernen Orchesterwerken\,  Tonfilmschlagern\,  Radiomusik und[..]\nhttps://www.elke-kottmair.com/events/breslau-modern-times-1-i-konzert-mit-der-staatsphilharmonie-rheinland-pfalz/
URL:https://www.elke-kottmair.com/events/breslau-modern-times-1-i-konzert-mit-der-staatsphilharmonie-rheinland-pfalz/
END:VEVENT
END:VCALENDAR